BEGIN:VCALENDAR
VERSION:2.0
PRODID:-//Gokcumen Lab - ECPv6.15.20//NONSGML v1.0//EN
CALSCALE:GREGORIAN
METHOD:PUBLISH
X-ORIGINAL-URL:https://gokcumenlab.org
X-WR-CALDESC:Events for Gokcumen Lab
REFRESH-INTERVAL;VALUE=DURATION:PT1H
X-Robots-Tag:noindex
X-PUBLISHED-TTL:PT1H
BEGIN:VTIMEZONE
TZID:America/New_York
BEGIN:DAYLIGHT
TZOFFSETFROM:-0500
TZOFFSETTO:-0400
TZNAME:EDT
DTSTART:20250309T070000
END:DAYLIGHT
BEGIN:STANDARD
TZOFFSETFROM:-0400
TZOFFSETTO:-0500
TZNAME:EST
DTSTART:20251102T060000
END:STANDARD
BEGIN:DAYLIGHT
TZOFFSETFROM:-0500
TZOFFSETTO:-0400
TZNAME:EDT
DTSTART:20260308T070000
END:DAYLIGHT
BEGIN:STANDARD
TZOFFSETFROM:-0400
TZOFFSETTO:-0500
TZNAME:EST
DTSTART:20261101T060000
END:STANDARD
BEGIN:DAYLIGHT
TZOFFSETFROM:-0500
TZOFFSETTO:-0400
TZNAME:EDT
DTSTART:20270314T070000
END:DAYLIGHT
BEGIN:STANDARD
TZOFFSETFROM:-0400
TZOFFSETTO:-0500
TZNAME:EST
DTSTART:20271107T060000
END:STANDARD
END:VTIMEZONE
BEGIN:VEVENT
DTSTART;TZID=America/New_York:20260529T140000
DTEND;TZID=America/New_York:20260529T150000
DTSTAMP:20260425T115821
CREATED:20260120T154329Z
LAST-MODIFIED:20260120T154329Z
UID:4187-1780063200-1780066800@gokcumenlab.org
SUMMARY:Seminar by Sophie Jean Walton\, Stanford University
DESCRIPTION:As part of our ongoing seminar series on evolutionary genetics and genome structure evolution\, we are excited to announce our upcoming seminar scheduled for Friday\, May 29th. \nSeminar Details: \n\n\n\n\n\n\n\n\nDate: May 29th\, 2026 \n\n\n\n\n\n\n\n\nTime: 14:00 – 15:00 \n\n\n\n\n\n\n\n\nSpeaker: Sophie Jean Walton\, Stanford University \n\n\n\n\n\n\n\n\nLocation: Large Conference room\, Hochstetter Hall 5th floor \n\n\n\n\n\n\n\n\nZoom Link: Zoom Meeting Link \n\nAs part of your preparation for the seminar\, we kindly recommend that you read the following article: Community coalescence reveals strong selection and coexistence within species in complex microbial communities \n\n\n\n\n\n\n\nWhether you plan to attend in person or via Zoom\, we welcome your participation and look forward to your questions and engagement during the Q&A session.Don’t hesitate to contact us if you have any questions or require further information. \n\n\n\n\nWe hope to see you all there.
URL:https://gokcumenlab.org/event/seminar-by-sophie-jean-walton-stanford-university/
CATEGORIES:Seminar Series
END:VEVENT
END:VCALENDAR