BEGIN:VCALENDAR
VERSION:2.0
PRODID:-//Gokcumen Lab - ECPv6.15.20//NONSGML v1.0//EN
CALSCALE:GREGORIAN
METHOD:PUBLISH
X-ORIGINAL-URL:https://gokcumenlab.org
X-WR-CALDESC:Events for Gokcumen Lab
REFRESH-INTERVAL;VALUE=DURATION:PT1H
X-Robots-Tag:noindex
X-PUBLISHED-TTL:PT1H
BEGIN:VTIMEZONE
TZID:America/New_York
BEGIN:DAYLIGHT
TZOFFSETFROM:-0500
TZOFFSETTO:-0400
TZNAME:EDT
DTSTART:20230312T070000
END:DAYLIGHT
BEGIN:STANDARD
TZOFFSETFROM:-0400
TZOFFSETTO:-0500
TZNAME:EST
DTSTART:20231105T060000
END:STANDARD
BEGIN:DAYLIGHT
TZOFFSETFROM:-0500
TZOFFSETTO:-0400
TZNAME:EDT
DTSTART:20240310T070000
END:DAYLIGHT
BEGIN:STANDARD
TZOFFSETFROM:-0400
TZOFFSETTO:-0500
TZNAME:EST
DTSTART:20241103T060000
END:STANDARD
BEGIN:DAYLIGHT
TZOFFSETFROM:-0500
TZOFFSETTO:-0400
TZNAME:EDT
DTSTART:20250309T070000
END:DAYLIGHT
BEGIN:STANDARD
TZOFFSETFROM:-0400
TZOFFSETTO:-0500
TZNAME:EST
DTSTART:20251102T060000
END:STANDARD
END:VTIMEZONE
BEGIN:VEVENT
DTSTART;VALUE=DATE:20240707
DTEND;VALUE=DATE:20240712
DTSTAMP:20260425T121106
CREATED:20240218T221127Z
LAST-MODIFIED:20241003T142417Z
UID:3811-1720310400-1720742399@gokcumenlab.org
SUMMARY:SMBE 2024 - Symposium on SVs
DESCRIPTION:Omer and Charikleia\, in collaboration with Megan Dennis (UC Davis) and Ellen Leffler (The University of Utah)\, will co-organize a symposium on the functional and adaptive effects of genomic structural variation at SMBE 2024 in Puerto Vallarta this July. The symposium will feature the pioneering work of Christine Beck (The Jackson Laboratory) and Mia Levine (University of Pennsylvania). \n\n\n\nRegistration and Abstract Submission are now Open \nFor more information\, please visit: SMBE 2024 Official Website \nSymposium details: \nDeciphering the functional and adaptive effects of genomic structural variation. \nOrganizers: Megan Dennis\, Omer Gokcumen\, Charikleia Karageorgiou\, Ellen Leffler.\nInvited speakers: Christine Beck\, Mia Levine. \nDescription or the symposium:\nGenomic structural variants (SVs) involve the rearrangement of DNA sequences and thus have a high potential to be functional and drive phenotypic change across diverse species. However\, SVs encompass a range of variant types\, including copy number changes\, translocations\, inversions\, repeat expansions\, and transposon insertions\, all of which present challenges for analysis with short read sequencing that has led to their under-characterization in genomic datasets. Recent innovations in long-read sequencing have enabled the construction of comprehensive SV maps across the tree of life. These maps now allow for directly assessing their functional and adaptive consequences in diverse species and populations. For example\, recent studies investigated the effects of gene copy number on transcript expression and protein-level changes\, how different types of SVs alter topologically associating domains\, or the impact of exonic repeat expansions on signaling and immune functions. Overall\, the symposium will showcase the exciting frontier of adaptive SV evolution made possible by recent improvements in genomic technologies\, including sequencing and mutagenesis of diverse model systems. We are particularly excited to bring together researchers who focus on linking genotype to phenotype to inform future collaborative research directions.
URL:https://gokcumenlab.org/event/smbe-2024-symposium-on-svs/
CATEGORIES:SMBE
END:VEVENT
END:VCALENDAR